BEGIN:VCALENDAR
VERSION:2.0
PRODID:-//Centrum Kultury Teatr w Grudziądzu - ECPv4.0.5//NONSGML v1.0//EN
CALSCALE:GREGORIAN
METHOD:PUBLISH
X-WR-CALNAME:Centrum Kultury Teatr w Grudziądzu
X-ORIGINAL-URL:http://teatr.grudziadz.pl
X-WR-CALDESC:Events for Centrum Kultury Teatr w Grudziądzu
BEGIN:VEVENT
DTSTART;TZID="Europe/Warsaw":20210220T180000
DTEND;TZID="Europe/Warsaw":20210220T180000
DTSTAMP:20260422T075547
CREATED:20210119T111148
LAST-MODIFIED:20210119T111148
UID:22931-1613844000-1613844000@teatr.grudziadz.pl
SUMMARY:Zdarte płyty
DESCRIPTION:wkrótce
URL:http://teatr.grudziadz.pl/wydarzenie/zdarte-plyty-3/
LOCATION:Teatralna\, 1\, Grudziądz\, 86-300\, Polska
CATEGORIES:Koncert
ATTACH;FMTTYPE=image/jpeg:http://teatr.grudziadz.pl/wp-content/uploads/2021/01/plyta-2.jpg
ORGANIZER;CN="CK%20Teatr%20w%20Grudzi%C4%85dzu":MAILTO:oliwia@teatr.grudziadz.pl
END:VEVENT
END:VCALENDAR