BEGIN:VCALENDAR
VERSION:2.0
PRODID:-//Centrum Kultury Teatr w Grudziądzu - ECPv4.0.5//NONSGML v1.0//EN
CALSCALE:GREGORIAN
METHOD:PUBLISH
X-WR-CALNAME:Centrum Kultury Teatr w Grudziądzu
X-ORIGINAL-URL:https://teatr.grudziadz.pl
X-WR-CALDESC:Events for Centrum Kultury Teatr w Grudziądzu
BEGIN:VEVENT
DTSTART;TZID="Europe/Warsaw":20230114T120000
DTEND;TZID="Europe/Warsaw":20230114T120000
DTSTAMP:20260420T203638
CREATED:20221103T140722
LAST-MODIFIED:20230112T071659
UID:34543-1673697600-1673697600@teatr.grudziadz.pl
SUMMARY:Koncert Kolęd w wyk. Towarzystwa Przyjaciół Downa
DESCRIPTION:Koncert kolęd\, w wykonaniu podopiecznych Towarzystwa Przyjaciół Downa oraz grudziądzkich szkół SP 15 i NSP1\, z towarzyszeniem grudziądzkich muzyków\, ma charakter terapeutyczny oraz stanowi łamanie barier społecznych\, dotyczących osób z Zespołem Downa.\nWydarzenie organizowane jest już po raz piąty\, a tegoroczna edycja rozpocznie obchody 20.lecia istnienia Stowarzyszenia Towpede\, powstałego z inicjatywy rodziców dzieci z Zespołem Downa.\nStowarzyszenie Towpede działa głównie na rzecz osób z ZD\, prowadząc zajęcia terapeutyczne\, ukierunkowane na potrzeby naszych dzieci - obecnie pełnoletnich już mieszkańców miasta i gminy Grudziądz.
URL:https://teatr.grudziadz.pl/wydarzenie/koncert-koled-w-wyk-towarzystwa-towped-impreza-zamknieta/
LOCATION:Teatralna\, 1\, Grudziądz\, 86-300\, Polska
CATEGORIES:Koncert
ATTACH;FMTTYPE=image/jpeg:https://teatr.grudziadz.pl/wp-content/uploads/2022/11/plakat-g-rajdowski-reklama-1.jpg
ORGANIZER;CN="CK%20Teatr%20w%20Grudzi%C4%85dzu":MAILTO:oliwia@teatr.grudziadz.pl
END:VEVENT
END:VCALENDAR