BEGIN:VCALENDAR
VERSION:2.0
PRODID:-//Centrum Kultury Teatr w Grudziądzu - ECPv4.0.5//NONSGML v1.0//EN
CALSCALE:GREGORIAN
METHOD:PUBLISH
X-WR-CALNAME:Centrum Kultury Teatr w Grudziądzu
X-ORIGINAL-URL:https://teatr.grudziadz.pl
X-WR-CALDESC:Events for Centrum Kultury Teatr w Grudziądzu
BEGIN:VEVENT
DTSTART;TZID="Europe/Warsaw":20261023T000000
DTEND;TZID="Europe/Warsaw":20261023T000000
DTSTAMP:20260425T201056
CREATED:20260217T071136
LAST-MODIFIED:20260217T071136
UID:57290-1792713600-1792713600@teatr.grudziadz.pl
SUMMARY:Cela nr 3 - koncert
DESCRIPTION:więcej informacji wkrótce
URL:https://teatr.grudziadz.pl/wydarzenie/cela-nr-3-koncert-4/
LOCATION:ul. Wybickiego 38
CATEGORIES:Koncert
END:VEVENT
END:VCALENDAR