BEGIN:VCALENDAR
VERSION:2.0
PRODID:-//Centrum Kultury Teatr w Grudziądzu - ECPv4.0.5//NONSGML v1.0//EN
CALSCALE:GREGORIAN
METHOD:PUBLISH
X-WR-CALNAME:Centrum Kultury Teatr w Grudziądzu
X-ORIGINAL-URL:https://teatr.grudziadz.pl
X-WR-CALDESC:Events for Centrum Kultury Teatr w Grudziądzu
BEGIN:VEVENT
DTSTART;TZID="Europe/Warsaw":20261016T000000
DTEND;TZID="Europe/Warsaw":20261017T000000
DTSTAMP:20260425T213859
CREATED:20260217T070418
LAST-MODIFIED:20260217T070418
UID:57286-1792108800-1792195200@teatr.grudziadz.pl
SUMMARY:Festiwal Jazzowy
DESCRIPTION:więcej informacji wkrótce
URL:https://teatr.grudziadz.pl/wydarzenie/festiwal-jazzowy/
LOCATION:ul. Wybickiego 38
CATEGORIES:Koncert
END:VEVENT
END:VCALENDAR