BEGIN:VCALENDAR
VERSION:2.0
PRODID:-//Centrum Kultury Teatr w Grudziądzu - ECPv4.0.5//NONSGML v1.0//EN
CALSCALE:GREGORIAN
METHOD:PUBLISH
X-WR-CALNAME:Centrum Kultury Teatr w Grudziądzu
X-ORIGINAL-URL:https://teatr.grudziadz.pl
X-WR-CALDESC:Events for Centrum Kultury Teatr w Grudziądzu
BEGIN:VEVENT
DTSTART;TZID="Europe/Warsaw":20261008T000000
DTEND;TZID="Europe/Warsaw":20261008T000000
DTSTAMP:20260425T201111
CREATED:20260216T134842
LAST-MODIFIED:20260216T134842
UID:57274-1791417600-1791417600@teatr.grudziadz.pl
SUMMARY:Gala Krwiodawców
DESCRIPTION:więcej informacji wkrótce
URL:https://teatr.grudziadz.pl/wydarzenie/gala-krwiodawcow/
LOCATION:Teatralna\, 1\, Grudziądz\, 86-300\, Polska
CATEGORIES:Koncert,Wynajem
END:VEVENT
END:VCALENDAR