BEGIN:VCALENDAR
VERSION:2.0
PRODID:-//Centrum Kultury Teatr w Grudziądzu - ECPv4.0.5//NONSGML v1.0//EN
CALSCALE:GREGORIAN
METHOD:PUBLISH
X-WR-CALNAME:Centrum Kultury Teatr w Grudziądzu
X-ORIGINAL-URL:https://teatr.grudziadz.pl
X-WR-CALDESC:Events for Centrum Kultury Teatr w Grudziądzu
BEGIN:VEVENT
DTSTART;TZID="Europe/Warsaw":20260317T090000
DTEND;TZID="Europe/Warsaw":20260319T090000
DTSTAMP:20260425T020455
CREATED:20260216T121820
LAST-MODIFIED:20260225T105900
UID:57250-1773738000-1773910800@teatr.grudziadz.pl
SUMMARY:"Internetowy porywacz" reż. Zbigniew Kulwicki CKT
DESCRIPTION:“Internetowy porywacz” to mocny\, poruszający spektakl\, skierowany do młodzieży klas IV-VIII\, który w sugestywny sposób pokazuje\, jak łatwo wirtualna znajomość może zamienić się w niebezpieczną pułapkę. Bohater - zwykły nastolatek - wkracza w świat internetowej relacji\, nie zdając sobie sprawy\, że po drugiej stronie ekranu kryje się ktoś\, kto potrafi manipulować\, wzbudzać zaufanie i przejmować kontrolę. To przedstawienie nie moralizuje ono wciąga\, budzi emocje i skłania do refleksji Spektakl “Internetowy porywacz” stanowi ważny głos w dyskusji o bezpieczeństwie w sieci. To nie tylko wydarzenie artystyczne\, ale przede wszystkim silny przekaz profilaktyczny\, który może stać się początkiem ważnej rozmowy.\n\n[gallery size="medium" ids="52016\,52031\,52051\,52024\,52015\,52036"]\n\nReżyseria: Zbigniew Kulwicki\nMuzyka: Jędrzej Roch Rochecki\nScenografia: Beata Jasionek\n\nObsada:\nAdam Szczerbaty\nOliwia Górska\nAleksandra Perz\nZbigniew Kulwicki\nBeniamin Koralewski\n\n\nZapraszamy do rezerwacji dla grup zorganizowanych\nKontakt - Zbigniew Kulwicki: 501 793 955 | kasa teatru: 56 46 234 76\n 
URL:https://teatr.grudziadz.pl/wydarzenie/internetowy-porywacz-rez-zbigniew-kulwicki-ckt/
LOCATION:Teatralna\, 1\, Grudziądz\, 86-300\, Polska
CATEGORIES:Spektakle
ATTACH;FMTTYPE=image/jpeg:https://teatr.grudziadz.pl/wp-content/uploads/2023/02/PORYWACZ-PIOTR_1.jpg
END:VEVENT
END:VCALENDAR