BEGIN:VCALENDAR
VERSION:2.0
PRODID:-//Centrum Kultury Teatr w Grudziądzu - ECPv4.0.5//NONSGML v1.0//EN
CALSCALE:GREGORIAN
METHOD:PUBLISH
X-WR-CALNAME:Centrum Kultury Teatr w Grudziądzu
X-ORIGINAL-URL:https://teatr.grudziadz.pl
X-WR-CALDESC:Events for Centrum Kultury Teatr w Grudziądzu
BEGIN:VEVENT
DTSTART;TZID="Europe/Warsaw":20260515T200000
DTEND;TZID="Europe/Warsaw":20260515T200000
DTSTAMP:20260425T144930
CREATED:20260216T131551
LAST-MODIFIED:20260320T124205
UID:57261-1778875200-1778875200@teatr.grudziadz.pl
SUMMARY:Kabaret hrAbi & Wojtek Kamiński - Być facetem
DESCRIPTION:Nowy program kabaretu hrAbi to spojrzenie na współczesną męskość. Stworzony przez mężczyzn i opowiedziany męskim głosem\, ale kierowany do wszystkich - a zwłaszcza do tych\, którzy dobrze wiedzą\, z kim żyją i kogo próbują zrozumieć.\n\nW czasach\, gdy o męskości mówi się dużo i poważnie\, hrAbi postanawia przyjrzeć się jej po swojemu: z uśmiechem i autoironią. Weźmiemy facetów trochę w obronę\, trochę pod lupę - czasem ich pochwalimy\, czasem delikatnie rozbroimy śmiechem. Mamy do tego pełne prawo\, bo żartujemy przecież z samych siebie.\n\nW programie pojawią się skecze\, piosenki\, improwizacje oraz interakcje z publicznością. Bohaterem wieczoru będzie mężczyzna w każdej odsłonie — zagubiony\, zaradny\, wzruszający\, czasem absurdalny\, ale prawdziwy.\n\nA wszystko w stylu hrAbi (Dariusz Kamys\, Tomasz Majer\, Łukasz Pietsch) w świetnym towarzystwie Wojtka Kamińskiego.\n\n„Być facetem” - świeże spojrzenie na to\, co męskie. Z humorem i dystansem.\n\n\nBILETY DO NABYCIA W KASIE TEATRU LUB ONLINE:\n[button link="https://www.bilety24.pl/kabaret-i-stand-up/1345-kabaret-hrabi-wojtek-kaminski-byc-facetem-151610?id=901985" type="big" newwindow="yes"] Bilety24.pl[/button]\n[button link="https://biletyna.pl/event/view/id/642810?utm_source=sztukoteka&utm_medium=affiliate&utm_campaign=general" type="big" newwindow="yes"] Biletyna.pl[/button]\n\n 
URL:https://teatr.grudziadz.pl/wydarzenie/kabaret-hrabi-3/
LOCATION:Teatralna\, 1\, Grudziądz\, 86-300\, Polska
CATEGORIES:Spektakle
ATTACH;FMTTYPE=image/jpeg:https://teatr.grudziadz.pl/wp-content/uploads/2026/02/FB_1080x1080_BycFacetem_t2.jpg
END:VEVENT
END:VCALENDAR