BEGIN:VCALENDAR
VERSION:2.0
PRODID:-//Centrum Kultury Teatr w Grudziądzu - ECPv4.0.5//NONSGML v1.0//EN
CALSCALE:GREGORIAN
METHOD:PUBLISH
X-WR-CALNAME:Centrum Kultury Teatr w Grudziądzu
X-ORIGINAL-URL:https://teatr.grudziadz.pl
X-WR-CALDESC:Events for Centrum Kultury Teatr w Grudziądzu
BEGIN:VEVENT
DTSTART;TZID="Europe/Warsaw":20260324T110000
DTEND;TZID="Europe/Warsaw":20260325T110000
DTSTAMP:20260425T001632
CREATED:20260216T124519
LAST-MODIFIED:20260325T133545
UID:57258-1774350000-1774436400@teatr.grudziadz.pl
SUMMARY:"Kopciuszek" reż. Zbigniew Kulwicki CKT
DESCRIPTION:Bajka\, która rozświetla serca…\nZapraszamy naszych najmłodszych Widzów w niezwykłą podróż do świata pełnego magii\, muzyki i wzruszeń!\n\n„Kopciuszek” to barwna opowieść o dziewczynie\, która mimo przeciwności losu nigdy nie traci wiary w dobro. Złośliwa siostra i surowa macocha próbują przyćmić jej uśmiech\, ale dzięki wsparciu czuwającej nad Nią mamy\, odwadze i własnemu sercu\, Kopciuszek odnajduje swoje szczęście. Na scenie ożyją bajkowe postacie\, błyszczące pantofelki i królewski bal\, a całość wypełni muzyka\, śmiech i odrobina czarodziejskiego pyłu. To spektakl o przyjaźni\, dobroci i sile marzeń – dla dzieci i całych rodzin.\n\n[gallery size="medium" ids="56206\,56195\,56159\,56122\,56145\,56118"]\n\nObsada:\nAleksandra Perz\nOliwia Górska\nAleksandra Perz\nZbigniew Kulwicki\nBeniamin Koralewski\nAdam Szczerbaty\n\nReżyseria: Zbigniew Kulwicki\nScenografia: Beata Jasionek\nMuzyka: Jędrzej Rochecki\n\n\nREZERWACJE DLA GRUP:\nTel. 56 46 234 76 | 501 793 955
URL:https://teatr.grudziadz.pl/wydarzenie/kopciuszek-rez-zbigniew-kulwicki-ckt-2/
LOCATION:ul. Teatralna 1\, Grudziądz
CATEGORIES:Spektakle
ATTACH;FMTTYPE=image/jpeg:https://teatr.grudziadz.pl/wp-content/uploads/2025/02/Projekt-bez-nazwy-e1762260208798.jpg
END:VEVENT
END:VCALENDAR