BEGIN:VCALENDAR
VERSION:2.0
PRODID:-//Centrum Kultury Teatr w Grudziądzu - ECPv4.0.5//NONSGML v1.0//EN
CALSCALE:GREGORIAN
METHOD:PUBLISH
X-WR-CALNAME:Centrum Kultury Teatr w Grudziądzu
X-ORIGINAL-URL:https://teatr.grudziadz.pl
X-WR-CALDESC:Events for Centrum Kultury Teatr w Grudziądzu
BEGIN:VEVENT
DTSTART;TZID="Europe/Warsaw":20260828T000000
DTEND;TZID="Europe/Warsaw":20260828T000000
DTSTAMP:20260425T201110
CREATED:20260216T133119
LAST-MODIFIED:20260216T133604
UID:57265-1787875200-1787875200@teatr.grudziadz.pl
SUMMARY:Leśne kino z DKF-em
DESCRIPTION:Więcej informacji wkrótce
URL:https://teatr.grudziadz.pl/wydarzenie/letnie-kino-z-dkf-em-2/
CATEGORIES:DKF,Plenery
END:VEVENT
END:VCALENDAR