BEGIN:VCALENDAR
VERSION:2.0
PRODID:-//Centrum Kultury Teatr w Grudziądzu - ECPv4.0.5//NONSGML v1.0//EN
CALSCALE:GREGORIAN
METHOD:PUBLISH
X-WR-CALNAME:Centrum Kultury Teatr w Grudziądzu
X-ORIGINAL-URL:https://teatr.grudziadz.pl
X-WR-CALDESC:Events for Centrum Kultury Teatr w Grudziądzu
BEGIN:VEVENT
DTSTART;TZID="Europe/Warsaw":20260523T190000
DTEND;TZID="Europe/Warsaw":20260523T190000
DTSTAMP:20260425T182956
CREATED:20260219T092321
LAST-MODIFIED:20260423T054722
UID:57368-1779562800-1779562800@teatr.grudziadz.pl
SUMMARY:"Męskie Brzmienia" Music Everywhere - koncert
DESCRIPTION:MĘSKIE BRZMIENIA \n\nCzas na wyjątkowe show! MĘSKIE BRZMIENIA\, pierwszy w Polsce profesjonalny męski chór rozrywkowy\, przejmuje scenę\, nadając znanym polskim i światowym utworom nową\, oryginalną formę. W unikalnych aranżacjach klasyki\, popu i rocka\, usłyszysz utwory pełne energii\, refleksji i mocnych dźwięków. Koncert MĘSKIE BRZMIENIA to doskonałe połączenie dynamicznych rockowych hitów\, klimatycznych ballad oraz niezapomnianych kompozycji muzyki filmowej.\n\nMAŁA DAWKA WIELKICH EMOCJI\n\nPrzygotuj się na wieczór pełen różnorodnych brzmień\, który wciągnie Cię od pierwszych dźwięków! MĘSKIE BRZMIENIA łamią stereotypy\, ukazując szerokie spektrum męskiej ekspresji\, od żywiołowej energii po spokojniejsze\, liryczne momenty. Spodziewaj się zaskoczeń\, świeżych aranżacji i niezapomnianego show\, które długo pozostanie w Twojej pamięci.\n\nPRZEDSMAK REPERTUARU\n\n\tPolska klasyka: „Supermoce”\, „Jaskółka uwięziona”\, „Krakowski spleen”\, „Mamona”\n\tLegendy sceny: „It’s a Man’s World”\, „Desert Rose”\, „I Don’t Wanna Miss a Thing”\n\tPop: „Everybody”\, „Cry Me a River”\n\tMusical & film: „Circle of Life”\n\tRock: „Sound of Silence”\, „Believer”\, „Numb”\, „We Will Rock You”\n\n\n\n\nBILETY DO NABYCIA W KASIE TEATRU LUB ONLINE:\n[button link="https://www.bilety24.pl/koncert/1345-meskie-brzmienia-151156?id=898831" type="big" newwindow="yes"] Bilety24.pl[/button] \n[button link="https://bilety.musiceverywhere.pl/artist/view/id/45988/city_id/11" type="big" newwindow="yes"] musiceverywhere.pl[/button]\n[button link="https://www.kupbilecik.pl/imprezy/192969/Grudzi%C4%85dz/M%C4%99skie+Brzmienia/" type="big" newwindow="yes"] KupBilecik.pl[/button]\nKONCERT O GODZ. 16.00\n[button link="https://teatr.grudziadz.pl/wydarzenie/music-everywhere-koncert-4/" type="big"] Sprawdź[/button]\n\n 
URL:https://teatr.grudziadz.pl/wydarzenie/meskie-brzmienia-koncert-2/
LOCATION:Teatralna\, 1\, Grudziądz\, 86-300\, Polska
CATEGORIES:Koncert
ATTACH;FMTTYPE=image/png:https://teatr.grudziadz.pl/wp-content/uploads/2026/01/MBR-grudziadz-G-1x1.png
END:VEVENT
END:VCALENDAR