BEGIN:VCALENDAR
VERSION:2.0
PRODID:-//Centrum Kultury Teatr w Grudziądzu - ECPv4.0.5//NONSGML v1.0//EN
CALSCALE:GREGORIAN
METHOD:PUBLISH
X-WR-CALNAME:Centrum Kultury Teatr w Grudziądzu
X-ORIGINAL-URL:https://teatr.grudziadz.pl
X-WR-CALDESC:Events for Centrum Kultury Teatr w Grudziądzu
BEGIN:VEVENT
DTSTART;TZID="Europe/Warsaw":20250412T120000
DTEND;TZID="Europe/Warsaw":20250412T120000
DTSTAMP:20260421T114324
CREATED:20250317T200407
LAST-MODIFIED:20250404T194045
UID:51512-1744459200-1744459200@teatr.grudziadz.pl
SUMMARY:„Miś Tymoteusz” – spektakl dla dzieci
DESCRIPTION:"Miś Tymoteusz" to spektakl według "Tymoteusza Rimcimci" czyli lalkowego klasyka Jana Wilkowskiego. Zabawna historyjka o tym\, czym może się zakończyć wysłanie małego\, roztargnionego misia do sklepu po jajko. A misia wysyła tatko miś\, który oczywiście zupełnie nie przewidział takich konsekwencji…\nobsada:  Aurelia Rejman\, Amelia Jarco\n\nscenariusz i reżyseria: Renata Boguska\nlalki:  Renata Boguska\n\n[gallery columns="2" link="none" size="medium" ids="51557\,51556"]\n\n\nBILETY ONLINE:\n[button link="https://www.bilety24.pl/teatr/1345-mis-tymoteusz-127099?id=742088" type="big" newwindow="yes"] BILETY24.PL[/button]
URL:https://teatr.grudziadz.pl/wydarzenie/mis-tymoteusz-spektakl-dla-dzieci-2/
LOCATION:Teatralna\, 1\, Grudziądz\, 86-300\, Polska
CATEGORIES:Spektakle
ATTACH;FMTTYPE=image/jpeg:https://teatr.grudziadz.pl/wp-content/uploads/2025/03/WOŚP-CKT-1014.jpg
END:VEVENT
END:VCALENDAR