BEGIN:VCALENDAR
VERSION:2.0
PRODID:-//Centrum Kultury Teatr w Grudziądzu - ECPv4.0.5//NONSGML v1.0//EN
CALSCALE:GREGORIAN
METHOD:PUBLISH
X-WR-CALNAME:Centrum Kultury Teatr w Grudziądzu
X-ORIGINAL-URL:https://teatr.grudziadz.pl
X-WR-CALDESC:Events for Centrum Kultury Teatr w Grudziądzu
BEGIN:VEVENT
DTSTART;TZID="Europe/Warsaw":20250403T190000
DTEND;TZID="Europe/Warsaw":20250403T190000
DTSTAMP:20260421T101818
CREATED:20250115T110043
LAST-MODIFIED:20250116T164338
UID:49974-1743706800-1743706800@teatr.grudziadz.pl
SUMMARY:DKF | „Mój Nikifor” reż. Krzysztof Krauze
DESCRIPTION:Po seansie wykład Łukasza Ciemińskiego\n\n\n\nOparta na autentycznych wydarzeniach historia ośmiu ostatnich lat życia Nikifora\,\nzaliczanego do piątki najwybitniejszych prymitywistów świata. Nikifor przez większość\nżycia był pogardzany\, nie rozumiany i wyśmiewany. W Krynicy uchodził za pomylonego\,\nbudził strach albo śmiech. W 1960 roku jego losy krzyżują się z Marianem Włosińskim\,\nmłodym malarzem. Włosiński początkowo chce pozbyć się natręta\, lecz gdy go lepiej\npoznaje\, odkrywa tkwiący w nim geniusz\, niesamowitą siłę jego malarstwa\, brak\nprzywiązania do doczesności i pokorę wobec sztuki. Porzuca malarskie ambicje\, a\nsensem jego życia staje się opieka nad genialnym malarzem. Siedem lat później w\nwarszawskiej "Zachęcie" odbywa się pierwsza retrospektywna wystawa prac Nikifora\,\nktóra staje się jednocześnie dniem jego wielkiego triumfu.\n\n\n\nBILETY ONLINE:\n[button link="https://teatrgrudziadz.bilety24.pl/b24-do-miejsc-numerowanych-i-nienumerowanych/?id=698459&fbclid=IwZXh0bgNhZW0CMTAAAR0utDW8dIDZ7PAviiX1hBErL65VyNA6AeANus7TvWBDHWVavF8Fbb-ZbQo_aem_cCZoaOy55uIPCZ6FnFS_NQ#total" type="big" newwindow="yes"] BILETY24.PL[/button]
URL:https://teatr.grudziadz.pl/wydarzenie/moj-nikifor-rez-krzysztof-krauze/
LOCATION:Teatralna\, 1\, Grudziądz\, 86-300\, Polska
CATEGORIES:DKF
ATTACH;FMTTYPE=image/jpeg:https://teatr.grudziadz.pl/wp-content/uploads/2025/01/mój-Nikifor-plakat.jpg
END:VEVENT
END:VCALENDAR