BEGIN:VCALENDAR
VERSION:2.0
PRODID:-//Centrum Kultury Teatr w Grudziądzu - ECPv4.0.5//NONSGML v1.0//EN
CALSCALE:GREGORIAN
METHOD:PUBLISH
X-WR-CALNAME:Centrum Kultury Teatr w Grudziądzu
X-ORIGINAL-URL:https://teatr.grudziadz.pl
X-WR-CALDESC:Events for Centrum Kultury Teatr w Grudziądzu
BEGIN:VEVENT
DTSTART;TZID="Europe/Warsaw":20261020T110000
DTEND;TZID="Europe/Warsaw":20261020T110000
DTSTAMP:20260426T020218
CREATED:20260217T070821
LAST-MODIFIED:20260217T070821
UID:57288-1792494000-1792494000@teatr.grudziadz.pl
SUMMARY:Stowarzyszenie Osób Niedowidziących
DESCRIPTION:impreza zamknięta
URL:https://teatr.grudziadz.pl/wydarzenie/stowarzyszenie-osob-niedowidziacych/
LOCATION:ul. Wybickiego 38
CATEGORIES:Wynajem
END:VEVENT
END:VCALENDAR