BEGIN:VCALENDAR
VERSION:2.0
PRODID:-//Centrum Kultury Teatr w Grudziądzu - ECPv4.0.5//NONSGML v1.0//EN
CALSCALE:GREGORIAN
METHOD:PUBLISH
X-WR-CALNAME:Centrum Kultury Teatr w Grudziądzu
X-ORIGINAL-URL:https://teatr.grudziadz.pl
X-WR-CALDESC:Events for Centrum Kultury Teatr w Grudziądzu
BEGIN:VEVENT
DTSTART;TZID="Europe/Warsaw":20260617T180000
DTEND;TZID="Europe/Warsaw":20260617T180000
DTSTAMP:20260425T184142
CREATED:20260216T132855
LAST-MODIFIED:20260216T132855
UID:57264-1781719200-1781719200@teatr.grudziadz.pl
SUMMARY:Wręczenie Nagrody Grudziądzkiego Flisaka
DESCRIPTION:Więcej informacji wkrótce
URL:https://teatr.grudziadz.pl/wydarzenie/wreczenie-nagrody-grudziadzkiego-flisaka/
LOCATION:Teatralna\, 1\, Grudziądz\, 86-300\, Polska
CATEGORIES:Koncert,Spotkania
END:VEVENT
END:VCALENDAR