BEGIN:VCALENDAR
VERSION:2.0
PRODID:-//Centrum Kultury Teatr w Grudziądzu - ECPv4.0.5//NONSGML v1.0//EN
CALSCALE:GREGORIAN
METHOD:PUBLISH
X-WR-CALNAME:Centrum Kultury Teatr w Grudziądzu
X-ORIGINAL-URL:https://teatr.grudziadz.pl
X-WR-CALDESC:Events for Centrum Kultury Teatr w Grudziądzu
BEGIN:VEVENT
DTSTART;TZID="Europe/Warsaw":20260920T160000
DTEND;TZID="Europe/Warsaw":20260920T160000
DTSTAMP:20260425T182956
CREATED:20260216T134439
LAST-MODIFIED:20260216T134439
UID:57271-1789920000-1789920000@teatr.grudziadz.pl
SUMMARY:Wybory Miss Seniorek
DESCRIPTION:Więcej informacji wkrótce
URL:https://teatr.grudziadz.pl/wydarzenie/wybory-miss-seniorek-2/
LOCATION:Teatralna\, 1\, Grudziądz\, 86-300\, Polska
CATEGORIES:Koncert
END:VEVENT
END:VCALENDAR