BEGIN:VCALENDAR
VERSION:2.0
PRODID:-//Centrum Kultury Teatr w Grudziądzu - ECPv4.0.5//NONSGML v1.0//EN
CALSCALE:GREGORIAN
METHOD:PUBLISH
X-WR-CALNAME:Centrum Kultury Teatr w Grudziądzu
X-ORIGINAL-URL:https://teatr.grudziadz.pl
X-WR-CALDESC:Events for Centrum Kultury Teatr w Grudziądzu
BEGIN:VEVENT
DTSTART;TZID="Europe/Warsaw":20251019T000000
DTEND;TZID="Europe/Warsaw":20251019T000000
DTSTAMP:20260421T112700
CREATED:20251019T101904
LAST-MODIFIED:20251019T101909
UID:55232-1760832000-1760832000@teatr.grudziadz.pl
SUMMARY:Wybory MISS Seniorek
DESCRIPTION:
URL:https://teatr.grudziadz.pl/wydarzenie/wybory-miss-seniorek/
LOCATION:ul. Wybickiego 38
CATEGORIES:Spotkania
END:VEVENT
END:VCALENDAR