BEGIN:VCALENDAR
VERSION:2.0
PRODID:-//Centrum Kultury Teatr w Grudziądzu - ECPv4.0.5//NONSGML v1.0//EN
CALSCALE:GREGORIAN
METHOD:PUBLISH
X-WR-CALNAME:Centrum Kultury Teatr w Grudziądzu
X-ORIGINAL-URL:https://teatr.grudziadz.pl
X-WR-CALDESC:Events for Centrum Kultury Teatr w Grudziądzu
BEGIN:VEVENT
DTSTART;TZID="Europe/Warsaw":20250404T190000
DTEND;TZID="Europe/Warsaw":20250404T190000
DTSTAMP:20260421T114313
CREATED:20250204T160129
LAST-MODIFIED:20250325T210946
UID:50481-1743793200-1743793200@teatr.grudziadz.pl
SUMMARY:Z rockiem przez młodość XI – koncert OPP
DESCRIPTION:Koncert podopiecznych Macieja Gburczyka z Ogniska Pracy Pozaszkolnej\nCoroczny koncert podopiecznych z Ogniska Pracy Pozaszkolnej - Kuźnia Talentów to więcej\, niż tylko tradycja. XI edycja "Z rockiem przez młodość będzie edycją mocno zespołową\, choć wystąpią również wokaliści. Tego wieczoru w Akcencie dominować będzie muzyka rockowa\, około-rockowa\, trashmetalowa a nawet pop. Na scenie wystąpią obecnie rozwijające się w Kuźni Talentów zespoły: \n- Syriusz w składzie: Aleksander Lewandowski - śpiew i gitara\, Marcel Jarzyński - gitara\, Mateusz Rakowski - gitara basowa\, Cezary Kociurski - perkusja \n- Invaders w składzie: Olga Walczyk - śpiew\, Oskar Heberlein -gitara\, Dawid Dobiasz - gitara\, Filip Ciepliński - gitara i śpiew\, Tymoteusz Leissa - perkusja \n- Spiryt w składzie: Julia Żurawska - śpiew\, Marcel Jarzyński - gitara\, Aleksander Lewandowski - gitara\, Oliwia Król - gitara basowa\, Cezary Kociurski - perkusja \n- Through Worlds w składzie: Vanessa Krzysztofik - śpiew i gitara\, Mikołaj Ponieważ - gitara\, Piotr Nałęcz - gitara basowa\, Amelia Krelska - perkusja \noraz zespoły\, które grały w latach wcześniejszych: \n- Melisa w składzie: Matylda Ciborowska - śpiew i gitara\, Celina Furso - gitara\, Paweł Łaniecki – instr. klawiszowe\, Kamil Strojny - gitara basowa\, Nikodem Lewandowski - perkusja \n- Stroke w składzie: Paweł Gradkowski - śpiew i gitara\, Agata Misiak - śpiew\, Łukasz Cybulski - gitara\, Paweł Herduś - gitara basowa\, Jakub Hausman – perkusja\, Patryk Ostrowski - puzon \n\nPodczas koncertu usłyszymy również wokalistki: Zofię Karasińską\, Hannę Walczyk\, Julia Heba  i Zofia Urbaniak. Z mini recitalem z własnym zespołem zaprezentuje się Łukasz Szalkowski. \n\n\n\n\nBILETY ONLINE:\n[button link="https://www.bilety24.pl/koncert/1345-z-rockiem-przez-mlodosc-xi-125636?id=734015" type="big" newwindow="yes"] BILETY24.PL[/button]
URL:https://teatr.grudziadz.pl/wydarzenie/z-rockiem-przez-mlodosc-koncert-opp/
LOCATION:ul. Wybickiego 38
CATEGORIES:Koncert
ATTACH;FMTTYPE=image/png:https://teatr.grudziadz.pl/wp-content/uploads/2025/02/plakat-XI-edycja.png
END:VEVENT
END:VCALENDAR